BEGIN:VCALENDAR
VERSION:2.0
PRODID:-//Student Sponsor Partners - ECPv6.15.13//NONSGML v1.0//EN
CALSCALE:GREGORIAN
METHOD:PUBLISH
X-ORIGINAL-URL:https://sspnyc.org/es/
X-WR-CALDESC:Eventos para Student Sponsor Partners
REFRESH-INTERVAL;VALUE=DURATION:PT1H
X-Robots-Tag:noindex
X-PUBLISHED-TTL:PT1H
BEGIN:VTIMEZONE
TZID:America/New_York
BEGIN:DAYLIGHT
TZOFFSETFROM:-0500
TZOFFSETTO:-0400
TZNAME:EDT
DTSTART:20230312T070000
END:DAYLIGHT
BEGIN:STANDARD
TZOFFSETFROM:-0400
TZOFFSETTO:-0500
TZNAME:EST
DTSTART:20231105T060000
END:STANDARD
BEGIN:DAYLIGHT
TZOFFSETFROM:-0500
TZOFFSETTO:-0400
TZNAME:EDT
DTSTART:20240310T070000
END:DAYLIGHT
BEGIN:STANDARD
TZOFFSETFROM:-0400
TZOFFSETTO:-0500
TZNAME:EST
DTSTART:20241103T060000
END:STANDARD
BEGIN:DAYLIGHT
TZOFFSETFROM:-0500
TZOFFSETTO:-0400
TZNAME:EDT
DTSTART:20250309T070000
END:DAYLIGHT
BEGIN:STANDARD
TZOFFSETFROM:-0400
TZOFFSETTO:-0500
TZNAME:EST
DTSTART:20251102T060000
END:STANDARD
BEGIN:DAYLIGHT
TZOFFSETFROM:-0500
TZOFFSETTO:-0400
TZNAME:EDT
DTSTART:20260308T070000
END:DAYLIGHT
BEGIN:STANDARD
TZOFFSETFROM:-0400
TZOFFSETTO:-0500
TZNAME:EST
DTSTART:20261101T060000
END:STANDARD
END:VTIMEZONE
BEGIN:VEVENT
DTSTART;TZID=America/New_York:20250501T183000
DTEND;TZID=America/New_York:20250501T213000
DTSTAMP:20260423T123515
CREATED:20241010T194958Z
LAST-MODIFIED:20241010T194958Z
UID:17337-1746124200-1746135000@sspnyc.org
SUMMARY:2025 Cena de Fundadores
DESCRIPTION:Únete a los Socios Estudiantes Patrocinadores en nuestra 26ª Cena Anual de Fundadores\, que tendrá lugar el 1 de mayo de 2025 en el Gotham Hall de Nueva York\, en una noche dedicada a celebrar a nuestros estudiantes y antiguos alumnos. El tema de este año\, Metamorfosis: Transformando Vidas y Comunidades\, se centrará en el impacto transformador que una educación de calidad y un sólido sistema de apoyo pueden tener para los niños\, las familias y las comunidades. Más información y compra de entradas y mesas en sspnyc.org/Fundadores2025
URL:https://sspnyc.org/es/event/2025-cena-de-fundadores/
LOCATION:Gotham Hall
ORGANIZER;CN="Director of Events Margaret Buttery":MAILTO:mbuttery@sspnyc.org
END:VEVENT
BEGIN:VEVENT
DTSTART;TZID=America/New_York:20241212T173000
DTEND;TZID=America/New_York:20241212T190000
DTSTAMP:20260423T123515
CREATED:20241104T220456Z
LAST-MODIFIED:20241104T220456Z
UID:17339-1734024600-1734030000@sspnyc.org
SUMMARY:Visión general de la ayuda financiera universitaria y seminario web sobre la FAFSA
DESCRIPTION:Vanessa Barrios\, Directora Asociada de Ayuda Financiera de la Universidad St. Joseph de Nueva York\, hablará de todo lo relacionado con la ayuda financiera universitaria y dará a nuestros estudiantes consejos útiles para rellenar la FAFSA.
URL:https://sspnyc.org/es/event/vision-general-de-la-ayuda-financiera-universitaria-y-seminario-web-sobre-la-fafsa/
LOCATION:Virtual
END:VEVENT
BEGIN:VEVENT
DTSTART;TZID=America/New_York:20241119T170000
DTEND;TZID=America/New_York:20241119T180000
DTSTAMP:20260423T123515
CREATED:20241104T162906Z
LAST-MODIFIED:20241104T162906Z
UID:17344-1732035600-1732039200@sspnyc.org
SUMMARY:Webinar Informativo del Colegio Santo Tomás de Aquino
DESCRIPTION:Vinny Vasquez\, Director Asociado de Admisiones del Colegio Santo Tomás de Aquino\, organizará un seminario web para que los estudiantes de SSP hablen sobre el proceso de exploración\, solicitud y decisión universitaria.
URL:https://sspnyc.org/es/event/webinar-informativo-del-colegio-santo-tomas-de-aquino/
LOCATION:Virtual
END:VEVENT
BEGIN:VEVENT
DTSTART;TZID=America/New_York:20241114T170000
DTEND;TZID=America/New_York:20241114T180000
DTSTAMP:20260423T123515
CREATED:20241104T163103Z
LAST-MODIFIED:20241104T163103Z
UID:17343-1731603600-1731607200@sspnyc.org
SUMMARY:Goldman Sachs - Serie de talleres de ensayo
DESCRIPTION:Nuestros socios de Goldman Sachs continúan con su serie de Talleres de Ensayos\, trabajando con los estudiantes para repasar sus ensayos para la universidad.
URL:https://sspnyc.org/es/event/goldman-sachs-serie-de-talleres-de-ensayo/
END:VEVENT
BEGIN:VEVENT
DTSTART;TZID=America/New_York:20241109T130000
DTEND;TZID=America/New_York:20241109T160000
DTSTAMP:20260423T123515
CREATED:20241104T221012Z
LAST-MODIFIED:20241104T221012Z
UID:17345-1731157200-1731168000@sspnyc.org
SUMMARY:Salida de Otoño Mentor-Mentee: ¡Bolos!
DESCRIPTION:Vamos a reunir a mentores y alumnos en nuestra actividad trimestral dirigida por SSP. Ya estemos hablando de pavos o simplemente intentando mantenernos alejados de la cuneta\, ¡siempre nos gusta que nuestros mentores y alumnos se reúnan para estrechar lazos y divertirse!
URL:https://sspnyc.org/es/event/salida-de-otono-mentor-mentee-bolos/
LOCATION:Bowlero Chelsea Piers\, 60 Chelsea Piers\, New York\, New York\, 10011
END:VEVENT
BEGIN:VEVENT
DTSTART;TZID=America/New_York:20241107T170000
DTEND;TZID=America/New_York:20241107T180000
DTSTAMP:20260423T123515
CREATED:20241104T162613Z
LAST-MODIFIED:20241104T162613Z
UID:17342-1730998800-1731002400@sspnyc.org
SUMMARY:Taller de currículum Stryker
DESCRIPTION:Un grupo de voluntarios de Stryker repasará habilidades y consejos para la elaboración de currículos para los estudiantes en el taller virtual\, como parte de nuestros programas de planificación universitaria y profesional.
URL:https://sspnyc.org/es/event/taller-de-curriculum-stryker-2/
LOCATION:Virtual
END:VEVENT
BEGIN:VEVENT
DTSTART;TZID=America/New_York:20241009T050000
DTEND;TZID=America/New_York:20241009T180000
DTSTAMP:20260423T123515
CREATED:20241106T164034Z
LAST-MODIFIED:20241106T164034Z
UID:17338-1728450000-1728496800@sspnyc.org
SUMMARY:Taller de currículum Stryker
DESCRIPTION:Un grupo de voluntarios de Stryker realizará simulacros de entrevistas y repasará con nuestros alumnos las técnicas de entrevista y cómo causar una buena impresión\, como parte de nuestros programas de planificación universitaria y profesional.
URL:https://sspnyc.org/es/event/taller-de-curriculum-stryker/
LOCATION:Virtual
END:VEVENT
BEGIN:VEVENT
DTSTART;TZID=America/New_York:20240917T170000
DTEND;TZID=America/New_York:20240917T180000
DTSTAMP:20260423T123515
CREATED:20241106T163716Z
LAST-MODIFIED:20241106T163716Z
UID:17340-1726592400-1726596000@sspnyc.org
SUMMARY:Webinar sobre solicitudes universitarias para mayores
DESCRIPTION:El personal de SSP se reunirá con los alumnos de último curso para hablar de los aspectos básicos de la solicitud de ingreso en la universidad\, las subvenciones\, las becas y los componentes de la solicitud.
URL:https://sspnyc.org/es/event/webinar-sobre-solicitudes-universitarias-para-mayores/
LOCATION:Virtual
END:VEVENT
BEGIN:VEVENT
DTSTART;TZID=America/New_York:20240909T170000
DTEND;TZID=America/New_York:20240909T180000
DTSTAMP:20260423T123515
CREATED:20241106T163427Z
LAST-MODIFIED:20241106T163427Z
UID:17341-1725901200-1725904800@sspnyc.org
SUMMARY:Goldman Sachs - Inicio de la serie de talleres de ensayo
DESCRIPTION:Como preparación para nuestra serie de Talleres de Ensayo de otoño con nuestros socios de Goldman Sachs\, nos reuniremos con los estudiantes para que aporten ideas iniciales para sus ensayos universitarios.
URL:https://sspnyc.org/es/event/goldman-sachs-inicio-de-la-serie-de-talleres-de-ensayo/
LOCATION:Virtual
END:VEVENT
END:VCALENDAR